BEGIN:VCALENDAR
VERSION:2.0
PRODID:-//Gourmet Wine Getaways - ECPv6.15.20//NONSGML v1.0//EN
CALSCALE:GREGORIAN
METHOD:PUBLISH
X-WR-CALNAME:Gourmet Wine Getaways
X-ORIGINAL-URL:https://gourmetwinegetaways.com
X-WR-CALDESC:Events for Gourmet Wine Getaways
REFRESH-INTERVAL;VALUE=DURATION:PT1H
X-Robots-Tag:noindex
X-PUBLISHED-TTL:PT1H
BEGIN:VTIMEZONE
TZID:America/Los_Angeles
BEGIN:DAYLIGHT
TZOFFSETFROM:-0800
TZOFFSETTO:-0700
TZNAME:PDT
DTSTART:20230312T100000
END:DAYLIGHT
BEGIN:STANDARD
TZOFFSETFROM:-0700
TZOFFSETTO:-0800
TZNAME:PST
DTSTART:20231105T090000
END:STANDARD
BEGIN:DAYLIGHT
TZOFFSETFROM:-0800
TZOFFSETTO:-0700
TZNAME:PDT
DTSTART:20240310T100000
END:DAYLIGHT
BEGIN:STANDARD
TZOFFSETFROM:-0700
TZOFFSETTO:-0800
TZNAME:PST
DTSTART:20241103T090000
END:STANDARD
BEGIN:DAYLIGHT
TZOFFSETFROM:-0800
TZOFFSETTO:-0700
TZNAME:PDT
DTSTART:20250309T100000
END:DAYLIGHT
BEGIN:STANDARD
TZOFFSETFROM:-0700
TZOFFSETTO:-0800
TZNAME:PST
DTSTART:20251102T090000
END:STANDARD
END:VTIMEZONE
BEGIN:VEVENT
DTSTART;TZID=America/Los_Angeles:20240824T190000
DTEND;TZID=America/Los_Angeles:20240824T213000
DTSTAMP:20260422T131701
CREATED:20240724T194421Z
LAST-MODIFIED:20240724T195555Z
UID:4407-1724526000-1724535000@gourmetwinegetaways.com
SUMMARY:Daou Wine Tasting Dinner at Akbar\, Marina del Rey
DESCRIPTION:Daou Family Estates was founded in 1998 by brothers Georges and Daniel Daou- the culmination of their life-long dream. Daniel had been a “garagiste” in San Diego for many years while informally studying winemaking\, when an amazing property in Paso Robles became available. The rest\, as they say\, is history. The wine critics and wine-drinking world fell in love with Daou almost immediately and the honeymoon still goes on today. Daou Mountain’s terroir (pictured above) has enabled the brothers to become the Central Coast’s ambassadors of Bordeaux varietals. Akbar’s Owner/Chef Avinash Kapoor has created a delicious menu of gourmet Indian cuisine that will pair perfectly with these 4 incredible wines.  GWG’s Peter Kerr will discuss Daou’s amazing history & explore the wine & food pairings.  All the wines will also be available for ordering at great prices.  Space is very limited (24 guests) so reserve early! Reservations: 310-574-0666. \n$120 pp plus tax and gratuity \nWelcome Reception- Roederer Brut Champagne   \nMENU  \nHoney Chili Shrimp\n2022 Daou Sauvignon Blanc \n Fish Tamatter\n2022 Daou Chardonnay\, Willow Creek Reserve \nBoti Kabab- Tender chunks of prime beef in Chef Avi’s Special Sauce\, Sauteed Mushrooms\n2021 Daou 1470 (Cabernet Franc/Cabernet Sauvignon blend)\n2022 Daou Reserve Cabernet Sauvignon \nPicture credit-Daou Family Estates
URL:https://gourmetwinegetaways.com/events/daou-family-estates-wine-tasting-dinner-at-akbar-marina-del-rey-2-2-2-2-3-2-2/
LOCATION:Akbar\, 3115 Washington Blvd.\, Marina Del Rey\, CA\, 90292\, United States
CATEGORIES:Wine Tasting Dinners
ATTACH;FMTTYPE=image/jpeg:https://gourmetwinegetaways.com/wp-content/uploads/2024/07/Daou-ponderosa-1-scaled.jpg
END:VEVENT
END:VCALENDAR