BEGIN:VCALENDAR
VERSION:2.0
PRODID:-//Gourmet Wine Getaways - ECPv6.15.20//NONSGML v1.0//EN
CALSCALE:GREGORIAN
METHOD:PUBLISH
X-WR-CALNAME:Gourmet Wine Getaways
X-ORIGINAL-URL:https://gourmetwinegetaways.com
X-WR-CALDESC:Events for Gourmet Wine Getaways
REFRESH-INTERVAL;VALUE=DURATION:PT1H
X-Robots-Tag:noindex
X-PUBLISHED-TTL:PT1H
BEGIN:VTIMEZONE
TZID:America/Los_Angeles
BEGIN:DAYLIGHT
TZOFFSETFROM:-0800
TZOFFSETTO:-0700
TZNAME:PDT
DTSTART:20230312T100000
END:DAYLIGHT
BEGIN:STANDARD
TZOFFSETFROM:-0700
TZOFFSETTO:-0800
TZNAME:PST
DTSTART:20231105T090000
END:STANDARD
BEGIN:DAYLIGHT
TZOFFSETFROM:-0800
TZOFFSETTO:-0700
TZNAME:PDT
DTSTART:20240310T100000
END:DAYLIGHT
BEGIN:STANDARD
TZOFFSETFROM:-0700
TZOFFSETTO:-0800
TZNAME:PST
DTSTART:20241103T090000
END:STANDARD
BEGIN:DAYLIGHT
TZOFFSETFROM:-0800
TZOFFSETTO:-0700
TZNAME:PDT
DTSTART:20250309T100000
END:DAYLIGHT
BEGIN:STANDARD
TZOFFSETFROM:-0700
TZOFFSETTO:-0800
TZNAME:PST
DTSTART:20251102T090000
END:STANDARD
END:VTIMEZONE
BEGIN:VEVENT
DTSTART;TZID=America/Los_Angeles:20240518T190000
DTEND;TZID=America/Los_Angeles:20240518T213000
DTSTAMP:20260422T172330
CREATED:20240413T201548Z
LAST-MODIFIED:20240413T203012Z
UID:4296-1716058800-1716067800@gourmetwinegetaways.com
SUMMARY:Kistler Vineyards Wine Tasting Dinner at Akbar\, Marina del Rey
DESCRIPTION:Kistler Vineyards has been synonymous with great wine for over 40 years\, making vineyard designated Chardonnay and Pinot Noir with grapes from some of Sonoma’s finest vineyards. Steve Kistler and Mark Bixler founded this winery in 1978 on the notion that compelling wines of site should be made in California. They have had long-term relationships with local growers (the shortest of which is 30 years) and still\, to this day\, consider themselves to be farmers first. Winemaker Jason Kesner joined Steve in the cellar in 2008 and after Steve’s retirement in 2017\, Jason became President and Head Winemaker to guide Kistler through the next 40 years. Tonight’s dinner will feature two Kistler Chardonnays and two PNO’s perfectly paired with the gourmet Indian cuisine of Akbar’s Owner/Chef Avinash Kapoor. All the wines will be available for ordering at attractive prices. \nAs of April 11th\, the dinner is sold out. Akbar is taking a waitlist so please feel free to phone them and place yourself on the list in case there are cancellations. \n$115 pp plus tax and gratuity \nPhoto credit- Kistler Vineyards
URL:https://gourmetwinegetaways.com/events/kistler-vineyards-wine-tasting-dinner-at-akbar-marina-del-rey-2-2-2-2-3-2-2/
LOCATION:Akbar\, 3115 Washington Blvd.\, Marina Del Rey\, CA\, 90292\, United States
CATEGORIES:Wine Tasting Dinners
ATTACH;FMTTYPE=image/jpeg:https://gourmetwinegetaways.com/wp-content/uploads/2024/04/Kistler-Vineyard-shot.jpg
END:VEVENT
END:VCALENDAR