BEGIN:VCALENDAR
VERSION:2.0
PRODID:-//Gourmet Wine Getaways - ECPv6.15.20//NONSGML v1.0//EN
CALSCALE:GREGORIAN
METHOD:PUBLISH
X-ORIGINAL-URL:https://gourmetwinegetaways.com
X-WR-CALDESC:Events for Gourmet Wine Getaways
REFRESH-INTERVAL;VALUE=DURATION:PT1H
X-Robots-Tag:noindex
X-PUBLISHED-TTL:PT1H
BEGIN:VTIMEZONE
TZID:America/Los_Angeles
BEGIN:DAYLIGHT
TZOFFSETFROM:-0800
TZOFFSETTO:-0700
TZNAME:PDT
DTSTART:20240310T100000
END:DAYLIGHT
BEGIN:STANDARD
TZOFFSETFROM:-0700
TZOFFSETTO:-0800
TZNAME:PST
DTSTART:20241103T090000
END:STANDARD
BEGIN:DAYLIGHT
TZOFFSETFROM:-0800
TZOFFSETTO:-0700
TZNAME:PDT
DTSTART:20250309T100000
END:DAYLIGHT
BEGIN:STANDARD
TZOFFSETFROM:-0700
TZOFFSETTO:-0800
TZNAME:PST
DTSTART:20251102T090000
END:STANDARD
BEGIN:DAYLIGHT
TZOFFSETFROM:-0800
TZOFFSETTO:-0700
TZNAME:PDT
DTSTART:20260308T100000
END:DAYLIGHT
BEGIN:STANDARD
TZOFFSETFROM:-0700
TZOFFSETTO:-0800
TZNAME:PST
DTSTART:20261101T090000
END:STANDARD
END:VTIMEZONE
BEGIN:VEVENT
DTSTART;TZID=America/Los_Angeles:20250807T183000
DTEND;TZID=America/Los_Angeles:20250807T213000
DTSTAMP:20260419T223228
CREATED:20250704T200647Z
LAST-MODIFIED:20250729T235527Z
UID:4592-1754591400-1754602200@gourmetwinegetaways.com
SUMMARY:Swank N' Smith Winery Winemaker Dinner at El Rincon Criollo\, Playa del Rey
DESCRIPTION:El Rincon Criollo & Gourmet Wine Getaways\nProudly present \nA GOURMET WINEMAKER DINNER \nFeaturing the wines of \nSwank N’ Smith Winery\nPaso Robles\, California\nHost: Peter D. Kerr\, Gourmet Wine Getaways\nSpecial Guest: Owner/Winemaker Gregg Smith \nThursday\, July 7\, 2025 at 7:00 PM\n$115 per person\, plus tax and gratuity \nSwank n’ Smith Winery\, based in Paso Robles\, is a boutique winery that has garnered many accolades and awards for the wonderful hand-crafted\, food-friendly wines they are producing. You may not be familiar with the winery due to their size but once you taste these wines\, you’ll want to add them to your collection. We will have the opportunity to taste 5 of their outstanding wines sourced from well- established vineyards in Paso Robles and Napa Valley\, including three 10-year old reds that are drinking beautifully now and will continue to do so for the next 5+ years. Best of all\, each wine is perfectly paired with the authentic Cuban cuisine from the culinary team at El Rincon Criollo. Winemaker/Owner Gregg Smith will be on-hand to talk about his wines and winemaking philosophy. Attendance is limited to 30 guests so book early to ensure your seats. July 29 update- Dinner is sold out but we are accepting names for a Wait List. Please call to establish your WL priority. \nMENU\nFresh Plantain Chips\n2019 Tarantula Hawk Rose \nTangy Ceviche\n2018 Swank N’ Smith Viognier \nLamb Chop delicately poised over Eggplant Puree \n2015 Swank N’ Smith Monarch (GSM blend) \nEl Rincon’s Signature Ropa Vieja\n2014 Swank N’ Smith “Laureate” Napa Cabernet Sauvignon \n2015 Swank N’ Smith “Laureate Reserve” Napa Cabernet Sauvignon  \nA Sweet Ending \nPrepaid reservations are essential\, as seating is limited. Cancellations will only be accepted up to 48 hours in advance. No Open Table reservations. \nReservations: 310-391-4478\nEl Rincon Criollo\, 8501 Pershing Dr.\, Playa del Rey \nPicture credit- Swank N’ Smith Winery \nGourmet Wine Getaways (GWG) strongly encourages guests to utilize Lyft\, Uber & other safe methods of transport in getting to and from wine events. We want you to be smart and safe\, and as such\, we ask that you do the responsible thing. GWG or the venues are not liable or responsible for arranging transport & the methods by which guests get to & from our wine events.
URL:https://gourmetwinegetaways.com/events/swank-nsmith-winery-winemaker-dinner-at-el-rincon-criollo-culver-city-2-2-2-2-2/
LOCATION:El Rincon Criollo\, 8501 Pershing Dr.\, Playa del Rey\, CA\, 90293\, United States
CATEGORIES:Wine Tasting Dinners
ATTACH;FMTTYPE=image/webp:https://gourmetwinegetaways.com/wp-content/uploads/2025/07/Swank-and-Smith-2015-Laurate-Reserve.webp
END:VEVENT
END:VCALENDAR