BEGIN:VCALENDAR
VERSION:2.0
PRODID:-//Gourmet Wine Getaways - ECPv6.15.20//NONSGML v1.0//EN
CALSCALE:GREGORIAN
METHOD:PUBLISH
X-ORIGINAL-URL:https://gourmetwinegetaways.com
X-WR-CALDESC:Events for Gourmet Wine Getaways
REFRESH-INTERVAL;VALUE=DURATION:PT1H
X-Robots-Tag:noindex
X-PUBLISHED-TTL:PT1H
BEGIN:VTIMEZONE
TZID:America/Los_Angeles
BEGIN:DAYLIGHT
TZOFFSETFROM:-0800
TZOFFSETTO:-0700
TZNAME:PDT
DTSTART:20240310T100000
END:DAYLIGHT
BEGIN:STANDARD
TZOFFSETFROM:-0700
TZOFFSETTO:-0800
TZNAME:PST
DTSTART:20241103T090000
END:STANDARD
BEGIN:DAYLIGHT
TZOFFSETFROM:-0800
TZOFFSETTO:-0700
TZNAME:PDT
DTSTART:20250309T100000
END:DAYLIGHT
BEGIN:STANDARD
TZOFFSETFROM:-0700
TZOFFSETTO:-0800
TZNAME:PST
DTSTART:20251102T090000
END:STANDARD
BEGIN:DAYLIGHT
TZOFFSETFROM:-0800
TZOFFSETTO:-0700
TZNAME:PDT
DTSTART:20260308T100000
END:DAYLIGHT
BEGIN:STANDARD
TZOFFSETFROM:-0700
TZOFFSETTO:-0800
TZNAME:PST
DTSTART:20261101T090000
END:STANDARD
END:VTIMEZONE
BEGIN:VEVENT
DTSTART;TZID=America/Los_Angeles:20250329T190000
DTEND;TZID=America/Los_Angeles:20250329T213000
DTSTAMP:20260422T024257
CREATED:20241106T025449Z
LAST-MODIFIED:20250308T201009Z
UID:4487-1743274800-1743283800@gourmetwinegetaways.com
SUMMARY:Patz & Hall Wine Tasting Dinner at Akbar\, Marina del Rey
DESCRIPTION:Patz & Hall Winery has been a shining star in Sonoma since James Hall and Donald Patz\, along with Anne Moses and Heather Patz founded the winery in 1988. Jim and Don were working for Flora Springs Winery at the time and decided to strike off on their own- a very good decision! Jim has been the winemaker from the beginning and only in 2023 did he give up the reins to Assistant Winemaker James McCeney to carry the torch forward. This outstanding winery has been making great\, highly rated Chard and PNO from the beginning and tonight\, after a refreshing Welcome Bubbly\, we will taste two of each varietal paired with the gourmet Indian cuisine of Akbar’s Owner/Chef Avinash Kapoor. All the wines will also be available for ordering at great prices. Space is very limited (24 guests) so reserve early! Reservations: 310-574-0666. \n$100 pp plus tax and gratuity \nWelcome Reception- A refreshing bubbly to open the evening   \nMENU \nComplete menu will be available soon and will be posted in this space. If you know and love Chef Avi as we do\, you know it will be a tasty\, delicious and well-paired menu that will perfectly suit the Patz and Hall wines.
URL:https://gourmetwinegetaways.com/events/patz-and-hall-wine-tasting-dinner-at-akbar-marina-del-rey-2-2-2-2-3-2-2-2-2/
LOCATION:Akbar\, 3115 Washington Blvd.\, Marina Del Rey\, CA\, 90292\, United States
CATEGORIES:Wine Tasting Dinners
ATTACH;FMTTYPE=image/jpeg:https://gourmetwinegetaways.com/wp-content/uploads/2024/11/Patz-and-Hall-2020-PNO-Sonoma-coast.jpg
END:VEVENT
END:VCALENDAR