BEGIN:VCALENDAR
VERSION:2.0
PRODID:-//Gourmet Wine Getaways - ECPv6.15.20//NONSGML v1.0//EN
CALSCALE:GREGORIAN
METHOD:PUBLISH
X-WR-CALNAME:Gourmet Wine Getaways
X-ORIGINAL-URL:https://gourmetwinegetaways.com
X-WR-CALDESC:Events for Gourmet Wine Getaways
REFRESH-INTERVAL;VALUE=DURATION:PT1H
X-Robots-Tag:noindex
X-PUBLISHED-TTL:PT1H
BEGIN:VTIMEZONE
TZID:America/Los_Angeles
BEGIN:DAYLIGHT
TZOFFSETFROM:-0800
TZOFFSETTO:-0700
TZNAME:PDT
DTSTART:20240310T100000
END:DAYLIGHT
BEGIN:STANDARD
TZOFFSETFROM:-0700
TZOFFSETTO:-0800
TZNAME:PST
DTSTART:20241103T090000
END:STANDARD
BEGIN:DAYLIGHT
TZOFFSETFROM:-0800
TZOFFSETTO:-0700
TZNAME:PDT
DTSTART:20250309T100000
END:DAYLIGHT
BEGIN:STANDARD
TZOFFSETFROM:-0700
TZOFFSETTO:-0800
TZNAME:PST
DTSTART:20251102T090000
END:STANDARD
BEGIN:DAYLIGHT
TZOFFSETFROM:-0800
TZOFFSETTO:-0700
TZNAME:PDT
DTSTART:20260308T100000
END:DAYLIGHT
BEGIN:STANDARD
TZOFFSETFROM:-0700
TZOFFSETTO:-0800
TZNAME:PST
DTSTART:20261101T090000
END:STANDARD
END:VTIMEZONE
BEGIN:VEVENT
DTSTART;TZID=America/Los_Angeles:20250911T190000
DTEND;TZID=America/Los_Angeles:20250911T220000
DTSTAMP:20260419T210755
CREATED:20250708T202611Z
LAST-MODIFIED:20250710T192518Z
UID:4603-1757617200-1757628000@gourmetwinegetaways.com
SUMMARY:Grassini Family Vineyards & Winery Wine Tasting Dinner at Orto
DESCRIPTION:Orto Santa Monica & Gourmet Wine Getaways\nProudly present \nA GOURMET WINE TASTING DINNER \nFeaturing the wines of \nGrassini Family Vineyards & Winery\nSanta Ynez\, California\nHost: Peter D. Kerr\, Gourmet Wine Getaways’ Wine Consultant\nSpecial Guest: Katie Grassini\, CEO/Owner \nThursday\, September 11\, 2025 at 7:00 PM\n$115 per person\, plus tax and gratuity \n The Patriarch of the Grassini family\, Articondo\, left Pisa in 1904 seeking new opportunities and a chance to “put down roots” in the US. Two generations later\, having acquired 100 acres nearly 15 years prior\, Articondo’s grandson Larry and his wife learned that the SB County wine industry was literally exploding so they had their acreage tested to see if grapes could do well. The answer is in the bottles of wine they now proudly produce having literally “put down roots” in Santa Ynez with the founding of Grassini Family Vineyards. Tonight\, we will enjoy 4 of their outstanding wines including the “Articondo”\, a Cabernet blend named for the man who had the vision and courage to cross the Atlantic in search of a better life. The wines will be paired with a delicious gourmet menu created by Orto’s owner Andrea Inio & his culinary team. Articondo’s great-granddaughter Katie (pictured above) will join Peter to talk about the wines\, the region and of course\, her family. All the featured wines will be available for ordering at very attractive prices (most of them are such small production they never make it to retail shops). Hope to see you there!\nPicture credit- Paul Wellman \nMENU\nSliced Yukon Gold Potatoes\, leeks\, Sardinian Bottarga \n2023 Grassini Afiora Rose  \nSmoked Octopus\, fennel\,cruton dust\, basil oil\n2023 Grassini Sauvignon Blanc\, Happy Canyon\, Santa Ynez \nHomemade Cavatelli Pasta\, Seasonal mushrooms\n2023 Grassini Articondo (Cabernet blend) \nBraised Short Rib\, red wine glaze\n2020 Grassini Cabernet Sauvignon\, Happy Canyon\, Santa Ynez \nFreshly brewed Coffee or Tea \nAdvance\, guaranteed reservations required via the Resy App. Click on RESERVATIONS button below to book. Cancellations will only be accepted up to 48 hours in advance. No Open Table or phone reservations.  \nOrto Santa Monica\, 502 Santa Monica Blvd.\, Santa Monica\, CA 90401 \nRESERVATIONSGourmet Wine Getaways (GWG) strongly encourages guests to utilize Lyft\, Uber & other safe methods of transport in getting to and from wine events. We want you to be smart and safe\, and as such\, we ask that you do the responsible thing. GWG or the venues are not liable or responsible for arranging transport & the methods by which guests get to & from our wine events.
URL:https://gourmetwinegetaways.com/events/grassini-wine-tasting-dinner-at-orto-santa-monica-2-2-2-2-2-2-2-2-2-2/
LOCATION:Orto Santa Monica\, 502 Santa Monica Blvd.\, Santa Monica\, CA\, 90401\, United States
CATEGORIES:Wine Tasting Dinners
ATTACH;FMTTYPE=image/jpeg:https://gourmetwinegetaways.com/wp-content/uploads/2025/07/KatieGrassini-PhotobyPaulWellman.jpeg
END:VEVENT
END:VCALENDAR