BEGIN:VCALENDAR
VERSION:2.0
PRODID:-//Gourmet Wine Getaways - ECPv6.15.20//NONSGML v1.0//EN
CALSCALE:GREGORIAN
METHOD:PUBLISH
X-WR-CALNAME:Gourmet Wine Getaways
X-ORIGINAL-URL:https://gourmetwinegetaways.com
X-WR-CALDESC:Events for Gourmet Wine Getaways
REFRESH-INTERVAL;VALUE=DURATION:PT1H
X-Robots-Tag:noindex
X-PUBLISHED-TTL:PT1H
BEGIN:VTIMEZONE
TZID:America/Los_Angeles
BEGIN:DAYLIGHT
TZOFFSETFROM:-0800
TZOFFSETTO:-0700
TZNAME:PDT
DTSTART:20240310T100000
END:DAYLIGHT
BEGIN:STANDARD
TZOFFSETFROM:-0700
TZOFFSETTO:-0800
TZNAME:PST
DTSTART:20241103T090000
END:STANDARD
BEGIN:DAYLIGHT
TZOFFSETFROM:-0800
TZOFFSETTO:-0700
TZNAME:PDT
DTSTART:20250309T100000
END:DAYLIGHT
BEGIN:STANDARD
TZOFFSETFROM:-0700
TZOFFSETTO:-0800
TZNAME:PST
DTSTART:20251102T090000
END:STANDARD
BEGIN:DAYLIGHT
TZOFFSETFROM:-0800
TZOFFSETTO:-0700
TZNAME:PDT
DTSTART:20260308T100000
END:DAYLIGHT
BEGIN:STANDARD
TZOFFSETFROM:-0700
TZOFFSETTO:-0800
TZNAME:PST
DTSTART:20261101T090000
END:STANDARD
END:VTIMEZONE
BEGIN:VEVENT
DTSTART;TZID=America/Los_Angeles:20250206T190000
DTEND;TZID=America/Los_Angeles:20250206T220000
DTSTAMP:20260422T160757
CREATED:20241206T023038Z
LAST-MODIFIED:20250205T184128Z
UID:4513-1738868400-1738879200@gourmetwinegetaways.com
SUMMARY:Pali Wine Co. Winemaker Dinner at Socalo\, Santa Monica
DESCRIPTION:Socalo Santa Monica & Gourmet Wine Getaways\nProudly present \nA GOURMET WINEMAKER DINNER \nFeaturing the wines of \nPali Wine Co.\nLompoc\, California (Santa Barbara County)\nHost: Peter D. Kerr\, Gourmet Wine Getaways’ Wine Consultant\nSpecial Guest: Winemaker Aaron Walker \nThursday\, February 6\, 2025 at 7:00 PM\n$TBD per person\, plus tax and gratuity \nThe first dinner of 2025 is going to be nothing short of spectacular. We bring back an old friend\, Winemaker Aaron Walker and will feature a great selection of his current releases. With the holidays upon us\, it is difficult to pause the on-going frenzy that comes this time of year. But\, fear not! We will be putting together a menu and get it posted very soon-hopefully\, before the end of the month (and year!). All reservations will be made online- the RESERVATIONS button below is not currently active so be patient. Hold onto the date and talk to your wine-loving friends to let them know you would like them to join you for a great evening of wine\, food and conversation. Keep checking our website for the menu and further details. Happy Holidays & see you in February. \nFebruary 5 update: This dinner has been postponed until the month of April. Please check back as the exact date has not yet been determined. Sorry for any inconvenince. \nPhoto credit- Pali Wine Co. \nAdvance\, guaranteed reservations required via the Tock App. Cancellations will only be accepted up to 48 hours in advance. No Open Table or phone reservations. Click on RESERVATIONS button below to reserve.  \n  \nSocalo\, 1920 Santa Monica Blvd.\, Santa Monica\, CA 90404 \nRESERVATIONSGourmet Wine Getaways (GWG) strongly encourages guests to utilize Lyft\, Uber & other safe methods of transport in getting to and from wine events. We want you to be smart and safe\, and as such\, we ask that you do the responsible thing. GWG or the venues are not liable or responsible for arranging transport & the methods by which guests get to & from our wine events.
URL:https://gourmetwinegetaways.com/events/pali-wine-co-winemaker-dinner-at-socalo-santa-monica-2-2-2-2-2-2-2-2-2-2-3-2/
LOCATION:Spumoni- Hermosa Beach\, 1101 Aviation Blvd.\, Hermosa Beach\, CA\, 90254\, United States
CATEGORIES:Wine Tasting Dinners
ATTACH;FMTTYPE=image/jpeg:https://gourmetwinegetaways.com/wp-content/uploads/2021/09/Pali-Wine-Aaron-Walker.jpg
END:VEVENT
END:VCALENDAR