BEGIN:VCALENDAR
VERSION:2.0
PRODID:-//Gourmet Wine Getaways - ECPv6.15.20//NONSGML v1.0//EN
CALSCALE:GREGORIAN
METHOD:PUBLISH
X-WR-CALNAME:Gourmet Wine Getaways
X-ORIGINAL-URL:https://gourmetwinegetaways.com
X-WR-CALDESC:Events for Gourmet Wine Getaways
REFRESH-INTERVAL;VALUE=DURATION:PT1H
X-Robots-Tag:noindex
X-PUBLISHED-TTL:PT1H
BEGIN:VTIMEZONE
TZID:America/Los_Angeles
BEGIN:DAYLIGHT
TZOFFSETFROM:-0800
TZOFFSETTO:-0700
TZNAME:PDT
DTSTART:20230312T100000
END:DAYLIGHT
BEGIN:STANDARD
TZOFFSETFROM:-0700
TZOFFSETTO:-0800
TZNAME:PST
DTSTART:20231105T090000
END:STANDARD
BEGIN:DAYLIGHT
TZOFFSETFROM:-0800
TZOFFSETTO:-0700
TZNAME:PDT
DTSTART:20240310T100000
END:DAYLIGHT
BEGIN:STANDARD
TZOFFSETFROM:-0700
TZOFFSETTO:-0800
TZNAME:PST
DTSTART:20241103T090000
END:STANDARD
BEGIN:DAYLIGHT
TZOFFSETFROM:-0800
TZOFFSETTO:-0700
TZNAME:PDT
DTSTART:20250309T100000
END:DAYLIGHT
BEGIN:STANDARD
TZOFFSETFROM:-0700
TZOFFSETTO:-0800
TZNAME:PST
DTSTART:20251102T090000
END:STANDARD
END:VTIMEZONE
BEGIN:VEVENT
DTSTART;TZID=America/Los_Angeles:20240323T190000
DTEND;TZID=America/Los_Angeles:20240323T213000
DTSTAMP:20260420T001820
CREATED:20240302T195736Z
LAST-MODIFIED:20240302T203039Z
UID:4271-1711220400-1711229400@gourmetwinegetaways.com
SUMMARY:Montagu Winery Wine Tasting Dinner at Akbar\, Marina del Rey
DESCRIPTION:The name Montagu is not well known in the wine world\, having their family roots in the British automotive industry and Britain’s first Automotive Museum. But\, Montagu Winery’s owner Weston Eidson (pictured above-photo credit Montagu Winery) is carrying on his Great Grandfather’s spirit & zest for life and his Great Uncle’s love of wine by founding this boutique winery in Napa Valley in 2012. His focus is on making extremely limited production wines that are richly layered\, complex and yet\, well balanced- expressing that same spirit and zest for life in each bottle. The wines are sourced from excellent vineyards in Napa\, Sonoma & the Central Coast. Judging by the scores these wines are getting\, he seems to have the right formula for success in the eyes of wine experts. But\, don’t take their word for it\, join us and decide for yourself. Tonight\, we will enjoy four of their highly regarded wines perfectly paired with the gourmet Indian cuisine of Akbar’s Owner/Chef Avinash Kapoor. All the wines will be available for ordering at attractive prices. Reserve early- only 24 seats available! \n$95 pp plus tax and gratuity \nWelcome Reception- NV Avissi Prosecco  \nMENU  \nChicken Tamatter:Chicken in coconut tomato sauce with caramelized onions\, serano\n2021 Montagu Chardonnay\, Napa Valley (W.I.- 94pts.) \nChef Avi’s fresh salmon with Makhani Sauce\n2021 Montagu Pinot Noir\, Charles Heitz Vineyard\, Sonoma Coast (W.E.- 97 pts.)\n2020 Montagu Pinot Noir\, Rita’s Crown Vineyard\, SRH \nRack of Lamb over curried mashed potatoes\n2021 Montagu Cabernet Sauvignon “The Baron” (W.I.- 94 pts.\, J.D.- 90+ pts.)
URL:https://gourmetwinegetaways.com/events/montagu-winery-wine-tasting-dinner-at-akbar-marina-del-rey-2-2-2-2-3-2/
LOCATION:Akbar\, 3115 Washington Blvd.\, Marina Del Rey\, CA\, 90292\, United States
CATEGORIES:Wine Tasting Dinners
ATTACH;FMTTYPE=image/jpeg:https://gourmetwinegetaways.com/wp-content/uploads/2024/03/Montagu-owner-pix.jpg
END:VEVENT
END:VCALENDAR