BEGIN:VCALENDAR
VERSION:2.0
PRODID:-//Gourmet Wine Getaways - ECPv6.15.20//NONSGML v1.0//EN
CALSCALE:GREGORIAN
METHOD:PUBLISH
X-WR-CALNAME:Gourmet Wine Getaways
X-ORIGINAL-URL:https://gourmetwinegetaways.com
X-WR-CALDESC:Events for Gourmet Wine Getaways
REFRESH-INTERVAL;VALUE=DURATION:PT1H
X-Robots-Tag:noindex
X-PUBLISHED-TTL:PT1H
BEGIN:VTIMEZONE
TZID:America/Los_Angeles
BEGIN:DAYLIGHT
TZOFFSETFROM:-0800
TZOFFSETTO:-0700
TZNAME:PDT
DTSTART:20160313T100000
END:DAYLIGHT
BEGIN:STANDARD
TZOFFSETFROM:-0700
TZOFFSETTO:-0800
TZNAME:PST
DTSTART:20161106T090000
END:STANDARD
BEGIN:DAYLIGHT
TZOFFSETFROM:-0800
TZOFFSETTO:-0700
TZNAME:PDT
DTSTART:20170312T100000
END:DAYLIGHT
BEGIN:STANDARD
TZOFFSETFROM:-0700
TZOFFSETTO:-0800
TZNAME:PST
DTSTART:20171105T090000
END:STANDARD
BEGIN:DAYLIGHT
TZOFFSETFROM:-0800
TZOFFSETTO:-0700
TZNAME:PDT
DTSTART:20180311T100000
END:DAYLIGHT
BEGIN:STANDARD
TZOFFSETFROM:-0700
TZOFFSETTO:-0800
TZNAME:PST
DTSTART:20181104T090000
END:STANDARD
END:VTIMEZONE
BEGIN:VEVENT
DTSTART;TZID=America/Los_Angeles:20170326T070000
DTEND;TZID=America/Los_Angeles:20170326T220000
DTSTAMP:20260419T113828
CREATED:20161006T164137Z
LAST-MODIFIED:20170608T170626Z
UID:1478-1490511600-1490565600@gourmetwinegetaways.com
SUMMARY:Ippolito Winery Winemaker Dinner at Sam's by the Beach
DESCRIPTION:Sam’s by the Beach & Gourmet Wine Getaways\nPresent \nA WINEMAKER DINNER \nFeaturing \nIppolito Winery\nCalabria\, Italy\nHost: Peter D. Kerr\, The Wine Consultant Special Guest: Vincenzo Ippolito\, Owner/Winemaker \nWednesday\, October 26\, 2016 at 7:00 PM\n$85 per person\, inclusive of tax and gratuity \nOwner/Winemaker Vincenzo and his brother Gianluca Ippolito are the current stewards of the family farm and vineyard dating back to 1845. As 5th generation owners\, they respect the land\, still using time-tested growing techniques yet they are moving carefully to modernize the winery located in a very old region in Italy. Their goal is to grow healthy fruit & allow the vineyard to speak through the wines. Sam and his culinary team have created a five-course gourmet menu to showcase these wines which include two amazing Riservas: an ’08 & ‘05 . Join Vincenzo & Gourmet Wine Getaways’ wine expert Peter Kerr as they discuss the Calabria wine region\, the latest from the winery & answer all your wine-related questions. Grab some friends and join us. Ciao! A presto! \nHORS D’OEUVRES\nSam’s Trio: Hummus\, Tabbouleh & Baba Ghanoush\n2015 Ippolito Pecorello \nMENU\nSpaghetti with Grilled Fresh Sardines\nGarlic\, Parsley & Chili Flakes\, drizzled with Olive Oil\n2015 Ippolito Res Dei Ciro Greco Bianco \nSwordfish Belly Crudo\nServed with Wild Arugula & Fresh Pear Salad\, White Flower dressing\n2013 Ippolito “Liber Pater” Rosso Classico Superiore \nBraised Venison Baby Back Ribs\nSoft Polenta\n2005 Ippolito Ripe del Falco Rosso Classico Superiore Riserva \nDessert\nLa Tur “3 Milk” Soft Ripened Cheese & Toast\n2008 Ippolito Colli del Mancuso Reserva \nFreshly brewed Coffee or Tea \nPrepaid reservations are essential\, as seating is limited. Cancellations will only be accepted up to 48 hours in advance. \nGourmet Wine Getaways (GWG) strongly encourages guests to utilize Lyft\, Uber & other safe methods of transport in getting to and from wine events. We want you to be smart and safe\, and as such\, we ask that you do the responsible thing. GWG or the venues are not liable or responsible for arranging transport & the methods by which guests get to & from our wine events. \nSam’s by the Beach; (310) 230-9100 108 West Channel Road\, Santa Monica Canyon\, CA 90402-1104 \nwww.samsbythebeach.com
URL:https://gourmetwinegetaways.com/events/ippolito-winery-winemaker-dinner-at-sams-by-the-beach/
LOCATION:Sam’s by the Beach\, 108 West Channel Road\, Santa Monica Canyon\, CA\, 90402\, United States
CATEGORIES:Wine Tasting Dinners
ATTACH;FMTTYPE=image/jpeg:https://gourmetwinegetaways.com/wp-content/uploads/2016/10/sams-by-the-beach.jpg
END:VEVENT
BEGIN:VEVENT
DTSTART;TZID=America/Los_Angeles:20170317T190000
DTEND;TZID=America/Los_Angeles:20170317T220000
DTSTAMP:20260419T113828
CREATED:20160929T200102Z
LAST-MODIFIED:20170608T170259Z
UID:1404-1489777200-1489788000@gourmetwinegetaways.com
SUMMARY:Rock Wall Wine Company Wine Tasting Dinner at Deluca Trattoria
DESCRIPTION:Deluca Trattoria & Gourmet Wine Getaways\nProudly present a “Tuscan Family-style” gourmet WINE TASTING DINNER \nFeaturing the wines of\nRock Wall Wine Company\nAlameda\, CA \nWednesday\, October 5\, 2016; 7:00 p.m. \n$79 per person\, inclusive of tax & gratuity \nHost: Peter Kerr\, The Wine Consultant \nSpecial Guest: Owner Kent Rosenblum \nThe name Rosenblum has been synonymous with great wine for over 35 years. Kent Rosenblum\, who made his mark by taking Zin to a new level\, has continued his wine endeavors with his daughter Shauna\, who is the resident winemaker. Kent’s long time relationships with acclaimed California vineyards in Napa\, Sonoma\, Contra Costa & Santa Barbara County allow the winery to source the “right grapes from the right place”\, a simple recipe for continued success. Tonight\, we’ll dine family-style & have the opportunity to enjoy 5 of their wines\, including a Sonoma Zin & Napa Petite Sirah\, paired with authentic Tuscan cuisine of Deluca’s Andrea Francesco(son)\, Gabriella Torelli(mom) & their team. Join Peter & Kent as they explore the history of the winery & these unique pairings of new world wines with old world Italian cuisine. Reserve today – come be part of the extended family! \nAperitivo\nTagliere di Fromaggi e Meringhe\n2015 Sauvignon Blanc\, Lake County \nMenu\nBruschetta di Branzino all′ Acqua Pazza\, Bocconcini di Filetto con Porcini\n2014 Cabernet Sauvignon\, Rigg Vineyard \nSpezzatino di Coniglio con Risotto alle Erbe Aromatiche\n(Rabbit stew & Risotto with aromatic herbs)\n2014 Zinfandel\, Julie’s Vineyard\, Russian River Valley \nBocconcini di Cinghiale con Pappardelle\n(Gabriella’s Wild Boar Sauce over Pappardelle)\n2012 Petite Sirah\, Le Mur De Roche\, Napa Valley \nHomemade Tiramisu\n2015 Sparkling Blanc de Blanc \nFreshly brewed coffee & tea \nAdvance Reservations required: Call (310)640-7600. \nAll guests must be at least 21 years of age. Cancellations will only be accepted 48 hrs. in advance. \nGourmet Wine Getaways (GWG) strongly encourages guests to utilize Lyft\, Uber & other safe methods of transport in getting to and from wine events. We want you to be smart and safe\, and as such\, we ask that you do the responsible thing. GWG or the venues are not liable or responsible for arranging transport & the methods by which guests get to & from our wine events. \nDeluca Trattoria\, 225 Richmond St.\, El Segundo\, CA 90245
URL:https://gourmetwinegetaways.com/events/rock-wall-wine-company-wine-tasting-dinner-at-deluca-trattoria/
LOCATION:Deluca Trattoria\, 225 Richmond Street\, El Segundo\, CA\, 90245\, United States
CATEGORIES:Wine Tasting Dinners
ATTACH;FMTTYPE=image/jpeg:https://gourmetwinegetaways.com/wp-content/uploads/2016/09/deluca-wide.jpg
END:VEVENT
END:VCALENDAR