BEGIN:VCALENDAR
VERSION:2.0
PRODID:-//Gourmet Wine Getaways - ECPv6.15.20//NONSGML v1.0//EN
CALSCALE:GREGORIAN
METHOD:PUBLISH
X-ORIGINAL-URL:https://gourmetwinegetaways.com
X-WR-CALDESC:Events for Gourmet Wine Getaways
REFRESH-INTERVAL;VALUE=DURATION:PT1H
X-Robots-Tag:noindex
X-PUBLISHED-TTL:PT1H
BEGIN:VTIMEZONE
TZID:America/Los_Angeles
BEGIN:DAYLIGHT
TZOFFSETFROM:-0800
TZOFFSETTO:-0700
TZNAME:PDT
DTSTART:20230312T100000
END:DAYLIGHT
BEGIN:STANDARD
TZOFFSETFROM:-0700
TZOFFSETTO:-0800
TZNAME:PST
DTSTART:20231105T090000
END:STANDARD
BEGIN:DAYLIGHT
TZOFFSETFROM:-0800
TZOFFSETTO:-0700
TZNAME:PDT
DTSTART:20240310T100000
END:DAYLIGHT
BEGIN:STANDARD
TZOFFSETFROM:-0700
TZOFFSETTO:-0800
TZNAME:PST
DTSTART:20241103T090000
END:STANDARD
BEGIN:DAYLIGHT
TZOFFSETFROM:-0800
TZOFFSETTO:-0700
TZNAME:PDT
DTSTART:20250309T100000
END:DAYLIGHT
BEGIN:STANDARD
TZOFFSETFROM:-0700
TZOFFSETTO:-0800
TZNAME:PST
DTSTART:20251102T090000
END:STANDARD
END:VTIMEZONE
BEGIN:VEVENT
DTSTART;TZID=America/Los_Angeles:20241109T110000
DTEND;TZID=America/Los_Angeles:20241109T170000
DTSTAMP:20260422T024500
CREATED:20240802T000055Z
LAST-MODIFIED:20241107T013138Z
UID:4416-1731150000-1731171600@gourmetwinegetaways.com
SUMMARY:Shop for Holidays at PPWC Holiday Gift Bazaar (& enjoy a glass of wine while you shop!)
DESCRIPTION:Start your holiday shopping this Saturday at the Pacific Palisades Woman’s Club (PPWC) Holiday Gift Bazaar. Be sure to stop by Gourmet Wine Getaways (GWG) table for a glass or two of holiday cheer (all GWG proceeds donated to PPWC Grant Program)  \nDrop by between 11am and 5pm to find the perfect holiday gifts for those special people on your list.  And while you are shopping for art\, jewelry\, unique housewares and homemade baked goods\, why not sip on a great glass of wine? Stop by the GWG table and say hello. Peter and Bart will be pouring some tasty vino to get you in the holiday mood.  Wines will include a great French Sauvignon Blanc and a selection of reds and whites from our good friends at Zaca Mesa Winery (Los Olivos). \nThere is no entry fee and all your purchases will benefit the PPWC Grant Program which supports local non-profits and charitable organizations.  All the vendors were asked to donate 20% of their proceeds to the Grant Program. But\, GWG will be donating 100% of our proceeds to the Grant Program- our way of giving back to this great organization and their fundraising efforts. \nHope we’ll see you there! \nGourmet Wine Getaways (GWG) strongly encourages guests to utilize Lyft\, Uber & other safe methods of transport in getting to and from wine events. We want you to be smart and safe\, and as such\, we ask that you do the responsible thing. GWG or the venues are not liable or responsible for arranging transport & the methods by which guests get to & from our wine events.
URL:https://gourmetwinegetaways.com/events/holiday-gift-bazaar-2-2-2-2/
LOCATION:Private: Pacific Palisades Woman’s Club\, 901 Haverford Avenue\, Pacific Palisades\, CA\, 90272
CATEGORIES:Wine and Appetizers,Wine Tasting Dinners
ATTACH;FMTTYPE=image/jpeg:https://gourmetwinegetaways.com/wp-content/uploads/2024/11/PPWC-2024-flyer-scaled.jpg
END:VEVENT
END:VCALENDAR