BEGIN:VCALENDAR
VERSION:2.0
PRODID:-//Gourmet Wine Getaways - ECPv6.15.20//NONSGML v1.0//EN
CALSCALE:GREGORIAN
METHOD:PUBLISH
X-WR-CALNAME:Gourmet Wine Getaways
X-ORIGINAL-URL:https://gourmetwinegetaways.com
X-WR-CALDESC:Events for Gourmet Wine Getaways
REFRESH-INTERVAL;VALUE=DURATION:PT1H
X-Robots-Tag:noindex
X-PUBLISHED-TTL:PT1H
BEGIN:VTIMEZONE
TZID:America/Los_Angeles
BEGIN:DAYLIGHT
TZOFFSETFROM:-0800
TZOFFSETTO:-0700
TZNAME:PDT
DTSTART:20230312T100000
END:DAYLIGHT
BEGIN:STANDARD
TZOFFSETFROM:-0700
TZOFFSETTO:-0800
TZNAME:PST
DTSTART:20231105T090000
END:STANDARD
BEGIN:DAYLIGHT
TZOFFSETFROM:-0800
TZOFFSETTO:-0700
TZNAME:PDT
DTSTART:20240310T100000
END:DAYLIGHT
BEGIN:STANDARD
TZOFFSETFROM:-0700
TZOFFSETTO:-0800
TZNAME:PST
DTSTART:20241103T090000
END:STANDARD
BEGIN:DAYLIGHT
TZOFFSETFROM:-0800
TZOFFSETTO:-0700
TZNAME:PDT
DTSTART:20250309T100000
END:DAYLIGHT
BEGIN:STANDARD
TZOFFSETFROM:-0700
TZOFFSETTO:-0800
TZNAME:PST
DTSTART:20251102T090000
END:STANDARD
END:VTIMEZONE
BEGIN:VEVENT
DTSTART;TZID=America/Los_Angeles:20240928T190000
DTEND;TZID=America/Los_Angeles:20240928T213000
DTSTAMP:20260422T100049
CREATED:20240916T235119Z
LAST-MODIFIED:20240923T183537Z
UID:4459-1727550000-1727559000@gourmetwinegetaways.com
SUMMARY:Champagne Tasting Dinner at Akbar\, Marina del Rey
DESCRIPTION:It is a rare and special dinner when you have the chance to imbibe a single Champagne to enjoy with the meal.  So\, what do you call a dinner where you have the privilege of enjoying 4 different Champagnes with the same meal? We would call it a dinner you don’t want to miss. Come join us as we taste 4 outstanding Champagnes from France including two from Maison Pommery and three vintage Champagnes including one from 2006 and one from 2007! Chef Avi has created a menu of gourmet Indian cuisine to compliment and enhance the taste of each bubbly. Peter will discuss each one and delve into the history of one of France’s most iconic wine regions.\nTake advantage of the amazing prices of these Champagnes to stock your cellar or wine fridge for the holidays. Space is limited to 24 guests so we highly suggest you reserve your spots right away. Reservations: 310-574-0666. \n$125 pp plus tax and gratuity \nWelcome Reception- NV Pommery Brut Royal   \nMENU  \nShrimp Kataco: Shrimp Chat served on a roti taco-style\n2007 Alfred Gratien ‘Au Paradis’ Brut Rose \n Amritsari Macchli: Fish Fritter from Amritsar\, Punjab with tomato chutney\, fresh greens\n2012 Lallier ‘Memoire’ Brut \nCrab Kofte: Fresh Crab with Chef Avi’s buttery korma with Pillau\n2006 Pommery ‘Cuvee Louise’ Brut Nature \nA Sweet Dreams Ending \nPhoto Credit: Pommery
URL:https://gourmetwinegetaways.com/events/champagne-tasting-dinner-at-akbar-marina-del-rey-2-2-2-2-3-2-2-2/
LOCATION:Akbar\, 3115 Washington Blvd.\, Marina Del Rey\, CA\, 90292\, United States
CATEGORIES:Wine Tasting Dinners
ATTACH;FMTTYPE=image/jpeg:https://gourmetwinegetaways.com/wp-content/uploads/2024/09/Pommery.jpg
END:VEVENT
END:VCALENDAR