BEGIN:VCALENDAR
VERSION:2.0
PRODID:-//Gourmet Wine Getaways - ECPv6.15.20//NONSGML v1.0//EN
CALSCALE:GREGORIAN
METHOD:PUBLISH
X-ORIGINAL-URL:https://gourmetwinegetaways.com
X-WR-CALDESC:Events for Gourmet Wine Getaways
REFRESH-INTERVAL;VALUE=DURATION:PT1H
X-Robots-Tag:noindex
X-PUBLISHED-TTL:PT1H
BEGIN:VTIMEZONE
TZID:America/Los_Angeles
BEGIN:DAYLIGHT
TZOFFSETFROM:-0800
TZOFFSETTO:-0700
TZNAME:PDT
DTSTART:20230312T100000
END:DAYLIGHT
BEGIN:STANDARD
TZOFFSETFROM:-0700
TZOFFSETTO:-0800
TZNAME:PST
DTSTART:20231105T090000
END:STANDARD
BEGIN:DAYLIGHT
TZOFFSETFROM:-0800
TZOFFSETTO:-0700
TZNAME:PDT
DTSTART:20240310T100000
END:DAYLIGHT
BEGIN:STANDARD
TZOFFSETFROM:-0700
TZOFFSETTO:-0800
TZNAME:PST
DTSTART:20241103T090000
END:STANDARD
BEGIN:DAYLIGHT
TZOFFSETFROM:-0800
TZOFFSETTO:-0700
TZNAME:PDT
DTSTART:20250309T100000
END:DAYLIGHT
BEGIN:STANDARD
TZOFFSETFROM:-0700
TZOFFSETTO:-0800
TZNAME:PST
DTSTART:20251102T090000
END:STANDARD
END:VTIMEZONE
BEGIN:VEVENT
DTSTART;TZID=America/Los_Angeles:20240229T190000
DTEND;TZID=America/Los_Angeles:20240229T213000
DTSTAMP:20260420T001932
CREATED:20240111T231556Z
LAST-MODIFIED:20240117T001056Z
UID:4246-1709233200-1709242200@gourmetwinegetaways.com
SUMMARY:Great Italian Boutique Wineries featured in Cantalini's Leap Day (Night)  Wine Dinner
DESCRIPTION:Cantalini’s & Gourmet Wine Getaways\nProudly present \nA GOURMET WINE TASTING DINNER \nFeaturing the wines of \nItaly’s Finest Boutique Wineries\nHost: Peter D. Kerr\, Gourmet Wine Getaways’ Wine Consultant\nSpecial Guest: Morgan Fox\, Mosaic Wine Alliance \nThursday\, February 29\, 2024 at 7:00 PM\n$79 per person\, plus tax and gratuity \nLooking to have a night to remember on Leap Day? Look no further! Gourmet Wine Getaways is taking advantage of this once every four-year opportunity to bring you a Wine Tasting Dinner that will leave you delighted and totally satisfied. The good folks at Mosaic Wines have done the hard part- hand-selecting a group of excellent boutique wineries from Italy’s best wine regions. These wineries are so small they don’t see too much retail exposure. However\, we will enjoy 5 wines meticulously paired with the delicious cuisine prepared by Cantalini’s culinary team. And all the wines\, already attractively priced\, will be available for ordering at special “Tonight only” prices. Join GWG’s Peter Kerr and Mosaic Wine’s Import Specialist Morgan Fox as they discuss the wines and the pairings- taking us on an Italian road trip without leaving CA. Hope you can join us…and bring a friend! \nWelcome Reception\nCastelforte Prosecco\, Veneto\nArugula\, Beet and Goat Cheese Salad\n2021 Castelforte Pinot Grigio\, Veneto\nRavioli alla Portobello (House-made ravioli in a light Porcini Mushroom sauce)\n2019 Tenuta-Contagallo Chianti Reserva\, Toscana\nSeabass Diavola (line-caught South American Seabass; mildly spicy tomato\, olive oil & red chili sauce)\n2020 Masseria del Feudo Nero d’Avola\, Sicilia\nVeal & Spinach Agnolotti (garlic\, white wine\, peas and proscuitto)\n2019 Aresca Barolo\, Piedmonte\nPiccolo Dolce della Casa\nReservations: (310) 821-0018\nCantalini’s Salerno Beach Restaurant\, www.salernobeach.com  \n \n  \n   \n  \nGourmet Wine Getaways (GWG) strongly encourages guests to utilize Lyft\, Uber & other safe methods of transport in getting to and from wine events. We want you to be smart and safe\, and as such\, we ask that you do the responsible thing. GWG or the venues are not liable or responsible for arranging transport & the methods by which guests get to & from our wine events.
URL:https://gourmetwinegetaways.com/events/italys-finest-boutique-wineries-wine-tasting-dinner-2-2-2-2-2-2-2-2/
LOCATION:Cantalini’s Salerno Beach Restaurant\, 193 Culver Blvd.\, Playa del Rey\, CA\, 90293\, United States
CATEGORIES:Wine Tasting Dinners
ATTACH;FMTTYPE=image/jpeg:https://gourmetwinegetaways.com/wp-content/uploads/2019/06/Cantalini-logo.jpg
END:VEVENT
END:VCALENDAR