BEGIN:VCALENDAR
VERSION:2.0
PRODID:-//Gourmet Wine Getaways - ECPv6.15.20//NONSGML v1.0//EN
CALSCALE:GREGORIAN
METHOD:PUBLISH
X-WR-CALNAME:Gourmet Wine Getaways
X-ORIGINAL-URL:https://gourmetwinegetaways.com
X-WR-CALDESC:Events for Gourmet Wine Getaways
REFRESH-INTERVAL;VALUE=DURATION:PT1H
X-Robots-Tag:noindex
X-PUBLISHED-TTL:PT1H
BEGIN:VTIMEZONE
TZID:America/Los_Angeles
BEGIN:DAYLIGHT
TZOFFSETFROM:-0800
TZOFFSETTO:-0700
TZNAME:PDT
DTSTART:20220313T100000
END:DAYLIGHT
BEGIN:STANDARD
TZOFFSETFROM:-0700
TZOFFSETTO:-0800
TZNAME:PST
DTSTART:20221106T090000
END:STANDARD
BEGIN:DAYLIGHT
TZOFFSETFROM:-0800
TZOFFSETTO:-0700
TZNAME:PDT
DTSTART:20230312T100000
END:DAYLIGHT
BEGIN:STANDARD
TZOFFSETFROM:-0700
TZOFFSETTO:-0800
TZNAME:PST
DTSTART:20231105T090000
END:STANDARD
BEGIN:DAYLIGHT
TZOFFSETFROM:-0800
TZOFFSETTO:-0700
TZNAME:PDT
DTSTART:20240310T100000
END:DAYLIGHT
BEGIN:STANDARD
TZOFFSETFROM:-0700
TZOFFSETTO:-0800
TZNAME:PST
DTSTART:20241103T090000
END:STANDARD
END:VTIMEZONE
BEGIN:VEVENT
DTSTART;TZID=America/Los_Angeles:20230921T190000
DTEND;TZID=America/Los_Angeles:20230921T213000
DTSTAMP:20260419T160112
CREATED:20230727T210439Z
LAST-MODIFIED:20230727T221148Z
UID:4088-1695322800-1695331800@gourmetwinegetaways.com
SUMMARY:Cru Winery Wine Tasting Dinner at Fritto Misto\, Hermosa Beach
DESCRIPTION:Fritto Misto Hermosa Beach & Gourmet Wine Getaways\nProudly present \nA GOURMET WINE TASTING DINNER \nFeaturing the wines of \nCru Winery\n\nHost: Peter D. Kerr\, Gourmet Wine Getaways\nSpecial Guest: Matt Mauldin\, Cru Winery \nThursday\, September 21\, 2023 at 7:00 PM \n$85 pp plus tax and gratuity \nTwo wine-loving friends took the ultimate step (that wine lovers can take) 20 years ago and opened a winery. Initially\, it was little more than a garage\, making a very small amount of wine for family and friends. But\, the passion took over and they hired a top shelf winemaker in 2009 and now they are a 25\,000 case winery\, earning accolades year after year. The winery seeks out grapes from some of California’s Central Coast’s top vineyards including French Camp\, Bien Nacido\, Sierra Madre and Smith & Lindley (SLH) to enable Crū to craft their outstanding single vineyard wines.\nTonight\, we will have the pleasure of enjoying four wines including a lovely Sierra Madre PNO (188 cases made) & a French Camp GSM (252 cases made) paired with the delicious cuisine of Fritto Misto’s incredible culinary team. Gourmet Wine Getaways’ wine expert Peter Kerr will join Matt to discuss the wines\, the pairings and answer any wine-related questions. All four wines will be available for purchase at very attractive prices should you desire to add them to your collection. Bring some friends along or come alone and make some new wine-loving buddies. See you there! For reservations\, call Fritto Misto-HB at (310) 318-6098. \nMENU  \n Deep fried Calamari(signature element of the famous Fritto Misto platter)\n2022 Cru Albarino\, Trilogy Vineyard. SLO Coast \n Fresh Halibut in a Chardonnay reduction with sauteed asparagus tips\n2021 Cru Chardonnay\, Smith & Lindley Vineyard\, SLH \n Jumbo Ravioli stuffed with Prosciutto\, Mortadella and chicken\, tossed with caramelized onions\, pancetta and sundried tomatoes\n2020 Cru Pinot Noir\, Sierra Madre Vineyard\, Santa Maria \n Fritto Misto’s Lamb di Liguria (old family recipe-still a trade secret!) on a bed of fresh spinach\n2020 Cru GSM\, French Camp Vineyard\, Paso Robles \nPiccolo Dolce \nFreshly brewed Coffee or Tea \nGourmet Wine Getaways (GWG) strongly encourages guests to utilize Lyft\, Uber & other safe methods of transport in getting to and from wine events. We want you to be smart and safe\, and as such\, we ask that you do the responsible thing. GWG or the venues are not liable or responsible for arranging transport & the methods by which guests get to & from our wine events.
URL:https://gourmetwinegetaways.com/events/cru-winery-wine-tasting-dinner-at-fritto-misto-santa-monica-2-2-2-2-3-2-2-2/
LOCATION:Fritto Misto- Hemosa Beach\, 316 Pier Avenue\, Hermosa Beach\, CA\, 90254\, United States
CATEGORIES:Wine Tasting Dinners
ATTACH;FMTTYPE=image/jpeg:https://gourmetwinegetaways.com/wp-content/uploads/2023/07/Cru-winery-shot-1-scaled.jpg
END:VEVENT
END:VCALENDAR