BEGIN:VCALENDAR
VERSION:2.0
PRODID:-//Gourmet Wine Getaways - ECPv6.15.20//NONSGML v1.0//EN
CALSCALE:GREGORIAN
METHOD:PUBLISH
X-WR-CALNAME:Gourmet Wine Getaways
X-ORIGINAL-URL:https://gourmetwinegetaways.com
X-WR-CALDESC:Events for Gourmet Wine Getaways
REFRESH-INTERVAL;VALUE=DURATION:PT1H
X-Robots-Tag:noindex
X-PUBLISHED-TTL:PT1H
BEGIN:VTIMEZONE
TZID:America/Los_Angeles
BEGIN:DAYLIGHT
TZOFFSETFROM:-0800
TZOFFSETTO:-0700
TZNAME:PDT
DTSTART:20220313T100000
END:DAYLIGHT
BEGIN:STANDARD
TZOFFSETFROM:-0700
TZOFFSETTO:-0800
TZNAME:PST
DTSTART:20221106T090000
END:STANDARD
BEGIN:DAYLIGHT
TZOFFSETFROM:-0800
TZOFFSETTO:-0700
TZNAME:PDT
DTSTART:20230312T100000
END:DAYLIGHT
BEGIN:STANDARD
TZOFFSETFROM:-0700
TZOFFSETTO:-0800
TZNAME:PST
DTSTART:20231105T090000
END:STANDARD
BEGIN:DAYLIGHT
TZOFFSETFROM:-0800
TZOFFSETTO:-0700
TZNAME:PDT
DTSTART:20240310T100000
END:DAYLIGHT
BEGIN:STANDARD
TZOFFSETFROM:-0700
TZOFFSETTO:-0800
TZNAME:PST
DTSTART:20241103T090000
END:STANDARD
END:VTIMEZONE
BEGIN:VEVENT
DTSTART;TZID=America/Los_Angeles:20230727T190000
DTEND;TZID=America/Los_Angeles:20230727T220000
DTSTAMP:20260419T125249
CREATED:20220910T014646Z
LAST-MODIFIED:20230622T204303Z
UID:3987-1690484400-1690495200@gourmetwinegetaways.com
SUMMARY:Saxon Brown Wine Tasting Dinner at Orto
DESCRIPTION:Orto Santa Monica & Gourmet Wine Getaways\nProudly present \nA GOURMET WINE TASTING DINNER \nFeaturing the wines of \nSaxon Brown Winery\nSanta Rosa\, California\nHost: Peter D. Kerr\, Gourmet Wine Getaways’ Wine Consultant\nSpecial Guest: Marcus Kempken\, Mosaic Wines \nThursday\, July 27\, 2023 at 7:00 PM\n$99 per person\, plus tax and gratuity \n Saxon Brown was created by grower/winemaker Jeff Gaffner in 1997.  Jeff prides himself on many things including being a 3rd generation Sonoma farmer\, a consultant winemaker to many of the region’s outstanding artisan wineries and for the past 25+ years\, the creator/winemaker of Saxon Brown’s small\, single-vineyard bottlings.  The Wine Spectator raves about his winemaking talents (“deft”) and the Wall St. Journal said “they love his vineyard voice”. Tonight’s wine selections will feature a nicely aged Grenache\, Chardonnay and Zin plus an ’18 Gap’s Crown Vineyard PNO.  The wines will be paired with a delicious gourmet menu created by Orto’s owner Andrea Inio & his culinary team.  All of the featured wines will be available for ordering at very attractive prices (many of them are no longer available on the retail market).  Joining Peter to discuss the winery & wines will be Marcus Kempken\, a thoroughly knowledgeable local Saxon Brown wine expert and great friend of GWG.  We will be moving inside the friendly confines of Orto’s original space so no need to worry if the June gloom continues into July.  Reserve early as we only have space for 40 guests. Hope to see you there! \nMENU\nPinzimonio (Organic fresh market veggies with EVO & lemon dip) \n2017 Saxon Brown Chardonnay\, Sangiacomo Vineyard\, Carneros  \nPaccheri pasta with lamb ragout\n2018 Saxon Brown Pinot Noir\, Gap’s Crown Vineyard\, Sonoma Coast \nCavatelli with fresh seasonal mushrooms and shaved black truffle\n2015 Saxon Brown Grenache\, Russian River\, Sonoma  \nFilet Mignon seasoned with fresh herbs and Gorgonzola Cheese\n2017 Saxon Brown Zinfandel\, Durrell Vineyard\, Sonoma Coast \nFreshly brewed Coffee or Tea \nAdvance\, guaranteed reservations required via the Resy App. Cancellations will only be accepted up to 48 hours in advance. No Open Table or phone reservations. Important note: COVID-19 vaccinations are highly recommended. Parties of less than 4 guests must be willing to share a table with other guests. \nOrto Santa Monica\, 502 Santa Monica Blvd.\, Santa Monica\, CA 90401 \nRESERVATIONSGourmet Wine Getaways (GWG) strongly encourages guests to utilize Lyft\, Uber & other safe methods of transport in getting to and from wine events. We want you to be smart and safe\, and as such\, we ask that you do the responsible thing. GWG or the venues are not liable or responsible for arranging transport & the methods by which guests get to & from our wine events.
URL:https://gourmetwinegetaways.com/events/saxon-brown-wine-tasting-dinner-at-orto-santa-monica-2-2-2-2-2-2-2-2/
LOCATION:Orto Santa Monica\, 502 Santa Monica Blvd.\, Santa Monica\, CA\, 90401\, United States
CATEGORIES:Wine Tasting Dinners
ATTACH;FMTTYPE=image/jpeg:https://gourmetwinegetaways.com/wp-content/uploads/2022/09/Saxon-Brown-2021-Pinot-Noir-Gaps-Crown-product-image-1.jpg
END:VEVENT
END:VCALENDAR